BEGIN:VCALENDAR
VERSION:2.0
BEGIN:VEVENT
SUMMARY:Reach out to Skysong Innovations about Skysong Innovations Startup Support Program
DESCRIPTION:Reach out to them for information about their program.\n\nDescription: ASU's technology commercialization arm providing licensing, startup support, and business development resources to ASU-based faculty, student, and staff startups commercializing university research.\n\n- Source: https://founder-nav.com/programs/recbYRvaIJY6bdlhm\n\n---\nBrought to you by Founder Nav, helping entrepreneurs navigate the entrepreneurial ecosystem.
DTSTART:20260425T100017Z
DTEND:20260425T103017Z
END:VEVENT
END:VCALENDAR