BEGIN:VCALENDAR
VERSION:2.0
BEGIN:VEVENT
SUMMARY:Reach out to Moreno Valley Chamber of Commerce about Moreno Valley Business Development Workshops
DESCRIPTION:Reach out to them for information about their program.\n\nDescription: Free and low-cost weekly business development workshops hosted every Wednesday at the Moreno Valley Business & Employment Resource Center in partnership with the IE-SBDC. Open to new and established business owners, covering topics such as starting a business, financial tools, email marketing, and social media. The Chamber also facilitates connections to IEWBC, SCORE, and other regional support organizations.\n\n- Phone: (951) 697-4404\n- Email: office@movalchamber.org\n- Source: https://founder-nav.com/programs/recbTG4v9lawPcJEK\n\n---\nBrought to you by Founder Nav, helping entrepreneurs navigate the entrepreneurial ecosystem.
DTSTART:20260425T100051Z
DTEND:20260425T103051Z
END:VEVENT
END:VCALENDAR