BEGIN:VCALENDAR
VERSION:2.0
BEGIN:VEVENT
SUMMARY:Reach out to Baker Donelson about The Light of Baltimore Incubator
DESCRIPTION:Reach out to them for information about their program.\n\nDescription: A free 1-year office space incubator providing 30 offices valued at $300K to early-stage companies at 100 Light St, 23rd floor, Baltimore. The 2025 cohort is run in partnership with Innovation Works and JPMorgan Chase. In addition to free workspace, participants receive complimentary legal education and access to mentorship networks. Managed by Baker Donelson's Baltimore office.\n\n- Source: https://founder-nav.com/programs/recbStLMKUPg5Xl5W\n\n---\nBrought to you by Founder Nav, helping entrepreneurs navigate the entrepreneurial ecosystem.
DTSTART:20260425T100020Z
DTEND:20260425T103020Z
END:VEVENT
END:VCALENDAR