BEGIN:VCALENDAR
VERSION:2.0
BEGIN:VEVENT
SUMMARY:Reach out to Startup Tucson about Startup Tucson Canvas Pre-Accelerator (Creative Entrepreneurs)
DESCRIPTION:Reach out to them for information about their program.\n\nDescription: A 10-week cohort-based pre-accelerator for creative entrepreneurs — artists, musicians, writers, and other creatives — helping them build and sustain a business from their creative work.\n\n- Phone: (520) 477-8278\n- Email: info@startuptucson.com\n- Source: https://founder-nav.com/programs/recbRa1vpz63TwI14\n\n---\nBrought to you by Founder Nav, helping entrepreneurs navigate the entrepreneurial ecosystem.
DTSTART:20260425T100034Z
DTEND:20260425T103034Z
END:VEVENT
END:VCALENDAR