BEGIN:VCALENDAR
VERSION:2.0
BEGIN:VEVENT
SUMMARY:Reach out to Leadership Maryland about Executive Master Series
DESCRIPTION:Reach out to them for information about their program.\n\nDescription: In-depth issue-focused series exclusively for Leadership Maryland Executive Program alumni, with up to 3 unique series per year, each exploring a critical Maryland topic in a small group setting.\n\n- Phone: (410) 841-2101\n- Email: info@leadershipmd.org\n- Source: https://founder-nav.com/programs/recbN5PkNVjta0U58\n\n---\nBrought to you by Founder Nav, helping entrepreneurs navigate the entrepreneurial ecosystem.
DTSTART:20260425T100016Z
DTEND:20260425T103016Z
END:VEVENT
END:VCALENDAR