BEGIN:VCALENDAR
VERSION:2.0
BEGIN:VEVENT
SUMMARY:Reach out to Practical Farmers of Iowa about Labor4Learning (Mentorship & On-the-Job Farm Training)
DESCRIPTION:Reach out to them for information about their program.\n\nDescription: Paid on-farm training program matching beginning farmers with experienced host farmers for hands-on mentorship and skills development over a growing season.\n\n- Phone: (515) 232-5661\n- Email: martha.mcfarland@practicalfarmers.org\n- Source: https://founder-nav.com/programs/recbKaavWAMVXF6w8\n\n---\nBrought to you by Founder Nav, helping entrepreneurs navigate the entrepreneurial ecosystem.
DTSTART:20260425T100002Z
DTEND:20260425T103002Z
END:VEVENT
END:VCALENDAR