BEGIN:VCALENDAR
VERSION:2.0
BEGIN:VEVENT
SUMMARY:Reach out to The LaunchPort about LaunchPort Medtech Manufacturing Accelerator
DESCRIPTION:Reach out to them for information about their program.\n\nDescription: An ISO 13485-certified medical device manufacturing and acceleration center located at Port Covington, Baltimore. The 25,000 sq ft facility offers a residency model with professional clean rooms, engineering space, and core services including quality systems, regulatory guidance, and supply chain support. Designed to help medical device startups scale manufacturing operations and achieve regulatory compliance.\n\n- Source: https://founder-nav.com/programs/recbJBxO9kN9gnkw7\n\n---\nBrought to you by Founder Nav, helping entrepreneurs navigate the entrepreneurial ecosystem.
DTSTART:20260425T100007Z
DTEND:20260425T103007Z
END:VEVENT
END:VCALENDAR