BEGIN:VCALENDAR
VERSION:2.0
BEGIN:VEVENT
SUMMARY:Reach out to Unknown Hub about Empower
DESCRIPTION:Reach out to them for information about their program.\n\nDescription: An 8-week intensive designed to equip entrepreneurs from across the globe with the essential tools, insights, and support needed to drive their ventures forward.\n\n- Source: https://founder-nav.com/programs/recbF89fYbwbPK0WT\n\n---\nBrought to you by Founder Nav, helping entrepreneurs navigate the entrepreneurial ecosystem.
DTSTART:20260425T100059Z
DTEND:20260425T103059Z
END:VEVENT
END:VCALENDAR