BEGIN:VCALENDAR
VERSION:2.0
BEGIN:VEVENT
SUMMARY:Reach out to California Asian Pacific Chamber of Commerce about AAPI LIFT Program
DESCRIPTION:Reach out to them for information about their program.\n\nDescription: Capacity-building program supporting AAPI-owned small businesses with training, mentorship, and resources to grow and scale.\n\n- Source: https://founder-nav.com/programs/recbEzwYgln6zWKnY\n\n---\nBrought to you by Founder Nav, helping entrepreneurs navigate the entrepreneurial ecosystem.
DTSTART:20260425T100034Z
DTEND:20260425T103034Z
END:VEVENT
END:VCALENDAR