BEGIN:VCALENDAR
VERSION:2.0
BEGIN:VEVENT
SUMMARY:Reach out to Alaska Fisheries Development Foundation about AFDF Startup Accelerator
DESCRIPTION:Reach out to them for information about their program.\n\nDescription: A network-based startup accelerator supporting early-stage companies in Alaska's Blue Economy — fisheries, ocean technology, mariculture, and seafood value-added products — with tailored one-on-one guidance and industry connections.\n\n- Source: https://founder-nav.com/programs/recbEDcrhAyDCZgXN\n\n---\nBrought to you by Founder Nav, helping entrepreneurs navigate the entrepreneurial ecosystem.
DTSTART:20260425T100024Z
DTEND:20260425T103024Z
END:VEVENT
END:VCALENDAR