BEGIN:VCALENDAR
VERSION:2.0
BEGIN:VEVENT
SUMMARY:Reach out to Idaho Veterans Chamber of Commerce about Entrepreneur Navigation Services
DESCRIPTION:Reach out to them for information about their program.\n\nDescription: Free, one-on-one navigation services for veteran and spouse entrepreneurs, helping them access resources, networks, and support to launch, start, grow, and thrive. Covers registrations, permits, finances, marketing, legal, HR, and more.\n\n- Phone: (208) 917-9977\n- Email: Admin@Idahoveterans.org\n- Source: https://founder-nav.com/programs/recbCYuM3Fv83LMTM\n\n---\nBrought to you by Founder Nav, helping entrepreneurs navigate the entrepreneurial ecosystem.
DTSTART:20260425T100008Z
DTEND:20260425T103008Z
END:VEVENT
END:VCALENDAR