BEGIN:VCALENDAR
VERSION:2.0
BEGIN:VEVENT
SUMMARY:Reach out to Metropolitan Business League about Veterans Entrepreneurship Training Program
DESCRIPTION:Reach out to them for information about their program.\n\nDescription: Cutting edge, experiential training in entrepreneurship and small business management to soldiers... to a current or potential business.\n\n- Email: LBoswell@thembl.org\n- Source: https://founder-nav.com/programs/recb6WReLxVcX7f8C\n\n---\nBrought to you by Founder Nav, helping entrepreneurs navigate the entrepreneurial ecosystem.
DTSTART:20260425T100000Z
DTEND:20260425T103000Z
END:VEVENT
END:VCALENDAR