BEGIN:VCALENDAR
VERSION:2.0
BEGIN:VEVENT
SUMMARY:Reach out to Middletown Area Chamber of Commerce about Middletown Business Incubator (MBI)
DESCRIPTION:Reach out to them for information about their program.\n\nDescription: The Middletown Business Incubator and Collaborative Workspace (MBI) is a 3,750 sq ft enterprise business center at 651 N. Broad St., Suite 306, Middletown, operated by the Middletown Area Chamber of Commerce. MBI offers 12 private office spaces, meeting and conference rooms for rent, a café, printer services, podcast recording capability, and drop-in professional space to support entrepreneurs in southern New Castle County.\n\n- Phone: (302) 378-7545\n- Email: info@maccde.com\n- Source: https://founder-nav.com/programs/recb68YJmaFWX60VB\n\n---\nBrought to you by Founder Nav, helping entrepreneurs navigate the entrepreneurial ecosystem.
DTSTART:20260425T100057Z
DTEND:20260425T103057Z
END:VEVENT
END:VCALENDAR