BEGIN:VCALENDAR
VERSION:2.0
BEGIN:VEVENT
SUMMARY:Reach out to Boost Northwest Accelerator about Boost Northwest 12-Week Accelerator
DESCRIPTION:Reach out to them for information about their program.\n\nDescription: A 12-week accelerator program connecting early-stage tech startups with enterprise partners to accelerate technology adoption and growth. Based in Coeur d'Alene, Idaho.\n\n- Source: https://founder-nav.com/programs/recb4yna5IH3Ur5Qt\n\n---\nBrought to you by Founder Nav, helping entrepreneurs navigate the entrepreneurial ecosystem.
DTSTART:20260425T100028Z
DTEND:20260425T103028Z
END:VEVENT
END:VCALENDAR