BEGIN:VCALENDAR
VERSION:2.0
BEGIN:VEVENT
SUMMARY:Reach out to Larta Institute about Heal.LA Bioscience & Healthcare Accelerator
DESCRIPTION:Reach out to them for information about their program.\n\nDescription: Accelerates early-stage ventures developing medical, digital health, and biotech solutions to address health challenges in Los Angeles, offering mentorship, strategic guidance, ecosystem connections, and non-dilutive funding to improve community health and equity.\n\n- Phone: (213) 694-2826\n- Email: lmacias@larta.org\n- Source: https://founder-nav.com/programs/recb3PIRrFc9ab0wR\n\n---\nBrought to you by Founder Nav, helping entrepreneurs navigate the entrepreneurial ecosystem.
DTSTART:20260424T100008Z
DTEND:20260424T103008Z
END:VEVENT
END:VCALENDAR