BEGIN:VCALENDAR
VERSION:2.0
BEGIN:VEVENT
SUMMARY:Reach out to Lightship Foundation about Lightship Bootcamp
DESCRIPTION:Reach out to them for information about their program.\n\nDescription: FREE founder-focused entrepreneurship education program, serving early-stage business founders and their teams through two days of mentorship, specialized curriculums, and for the most remarkable companies-- investment. Our program enables founders to completely reevaluate product, sales, and marketing strategies, prepare investment pitches and connect to our network of partners.\n\n- Email: infol@lightship.foundation\n- Source: https://founder-nav.com/programs/recb1wzjhrXfASz08\n\n---\nBrought to you by Founder Nav, helping entrepreneurs navigate the entrepreneurial ecosystem.
DTSTART:20260425T100045Z
DTEND:20260425T103045Z
END:VEVENT
END:VCALENDAR