BEGIN:VCALENDAR
VERSION:2.0
BEGIN:VEVENT
SUMMARY:Reach out to YWCA Oʻahu about YWahine In Business Incubator
DESCRIPTION:Reach out to them for information about their program.\n\nDescription: Seven-week business incubator for pre-launch and early-stage women entrepreneurs, offered through YWCA O'ahu's Patsy T. Mink Center for Business & Leadership — Hawaii's only SBA-designated Women's Business Center. Covers business planning, financial literacy, marketing, and operations in a supportive cohort environment.\n\n- Phone: (808) 695-2633\n- Email: mcbl@ywcaoahu.org\n- Source: https://founder-nav.com/programs/recawy1LL1dUiAxwW\n\n---\nBrought to you by Founder Nav, helping entrepreneurs navigate the entrepreneurial ecosystem.
DTSTART:20260425T100052Z
DTEND:20260425T103052Z
END:VEVENT
END:VCALENDAR