BEGIN:VCALENDAR
VERSION:2.0
BEGIN:VEVENT
SUMMARY:Reach out to USC EdTech Accelerator (USC Rossier School of Education) about USC EdTech Accelerator
DESCRIPTION:Reach out to them for information about their program.\n\nDescription: 6-month fully virtual accelerator for EdTech startups at USC Rossier School of Education, with no equity, no fees, and a personalized curriculum focused on improving educational access and outcomes.\n\n- Phone: (213) 740-0224\n- Source: https://founder-nav.com/programs/recaw6BZYrM70YzeM\n\n---\nBrought to you by Founder Nav, helping entrepreneurs navigate the entrepreneurial ecosystem.
DTSTART:20260425T100016Z
DTEND:20260425T103016Z
END:VEVENT
END:VCALENDAR