BEGIN:VCALENDAR
VERSION:2.0
BEGIN:VEVENT
SUMMARY:Reach out to Tejara about Skill Building Workshops
DESCRIPTION:Reach out to them for information about their program.\n\nDescription: Tejara’s Skill-Building Workshops empower entrepreneurs with practical tools and essential skills for growing and managing their businesses confidently.\n\n- Phone: (313) 945-1700\n- Email: hello@tejara.org\n- Source: https://founder-nav.com/programs/recavLbXWv25perYQ\n\n---\nBrought to you by Founder Nav, helping entrepreneurs navigate the entrepreneurial ecosystem.
DTSTART:20260425T100031Z
DTEND:20260425T103031Z
END:VEVENT
END:VCALENDAR