BEGIN:VCALENDAR
VERSION:2.0
BEGIN:VEVENT
SUMMARY:Reach out to Renaissance Entrepreneurship Center – Bayview about Business Incubator (SoMa & Bayview)
DESCRIPTION:Reach out to them for information about their program.\n\nDescription: Low-cost physical office and kitchen incubation space for approximately 60 emerging businesses, available at the South of Market (SoMa) headquarters and Bayview Hunters Point locations. Provides affordable professional office space, shared conference rooms, reception and janitorial services, and office equipment. Supported by the Renaissance Women's Business Center (SBA partner) with additional business development services.\n\n- Phone: (415) 541-8580\n- Source: https://founder-nav.com/programs/recaqL5X3Oco2bAa9\n\n---\nBrought to you by Founder Nav, helping entrepreneurs navigate the entrepreneurial ecosystem.
DTSTART:20260425T100031Z
DTEND:20260425T103031Z
END:VEVENT
END:VCALENDAR