BEGIN:VCALENDAR
VERSION:2.0
BEGIN:VEVENT
SUMMARY:Reach out to Pacific Asian Center for Entrepreneurship (PACE) about Startup Weekend UH
DESCRIPTION:Reach out to them for information about their program.\n\nDescription: Intense 54-hour weekend event at UH hosted by PACE in partnership with the global Startup Weekend network. Entrepreneurs, developers, designers, and startup enthusiasts pitch ideas, form teams, and build a business foundation in one weekend. Provides mentorship, customer validation practice, and community networking.\n\n- Phone: (808) 956-5083\n- Email: pace@hawaii.edu\n- Source: https://founder-nav.com/programs/recaez3FJ8OxTQNAb\n\n---\nBrought to you by Founder Nav, helping entrepreneurs navigate the entrepreneurial ecosystem.
DTSTART:20260425T100033Z
DTEND:20260425T103033Z
END:VEVENT
END:VCALENDAR