BEGIN:VCALENDAR
VERSION:2.0
BEGIN:VEVENT
SUMMARY:Reach out to KU Innovation Park about Lab2Market Accelerator
DESCRIPTION:Reach out to them for information about their program.\n\nDescription: 6-month accelerator transforming groundbreaking university research into market-ready ventures, providing workspace, business training, SBIR/STTR guidance, tools, and investor connections.\n\n- Source: https://founder-nav.com/programs/recabxygL8BiRBUcA\n\n---\nBrought to you by Founder Nav, helping entrepreneurs navigate the entrepreneurial ecosystem.
DTSTART:20260425T100037Z
DTEND:20260425T103037Z
END:VEVENT
END:VCALENDAR