BEGIN:VCALENDAR
VERSION:2.0
BEGIN:VEVENT
SUMMARY:Reach out to 1819 Innovation Hub about Entrepreneurs in Residence and Business Advisors
DESCRIPTION:Reach out to them for information about their program.\n\nDescription: UC students and startup founders can partner with dedicated business mentors and entrepreneurs in residence. EIRs bring extensive expertise and a long-term track record of success incubating and accelerating startup ventures across industries and markets.\n\n- Email: abrinimj@ucmail.uc.edu\n- Source: https://founder-nav.com/programs/recaH2VqSYpDGUXdz\n\n---\nBrought to you by Founder Nav, helping entrepreneurs navigate the entrepreneurial ecosystem.
DTSTART:20260425T100015Z
DTEND:20260425T103015Z
END:VEVENT
END:VCALENDAR