BEGIN:VCALENDAR
VERSION:2.0
BEGIN:VEVENT
SUMMARY:Reach out to Change Labs about Change Labs E-ship Hub & Business Coaching
DESCRIPTION:Reach out to them for information about their program.\n\nDescription: A coworking hub and coaching program on the Navajo Nation offering free drop-in workspace, personalized coaching sessions, workshops, and an on-demand video library for Native entrepreneurs.\n\n- Source: https://founder-nav.com/programs/recaEPEoeAmcXsVKT\n\n---\nBrought to you by Founder Nav, helping entrepreneurs navigate the entrepreneurial ecosystem.
DTSTART:20260425T100039Z
DTEND:20260425T103039Z
END:VEVENT
END:VCALENDAR