BEGIN:VCALENDAR
VERSION:2.0
BEGIN:VEVENT
SUMMARY:Reach out to Regional Innovation Center about Leadership Eastern CT
DESCRIPTION:Reach out to them for information about their program.\n\nDescription: ChamberECT's 30-year leadership development program connecting Eastern CT professionals with community leaders and regional resources.\n\n- Phone: (860) 701-9113\n- Email: info@chamberect.com\n- Source: https://founder-nav.com/programs/recaB2UScY9m9IQc7\n\n---\nBrought to you by Founder Nav, helping entrepreneurs navigate the entrepreneurial ecosystem.
DTSTART:20260425T100020Z
DTEND:20260425T103020Z
END:VEVENT
END:VCALENDAR