BEGIN:VCALENDAR
VERSION:2.0
BEGIN:VEVENT
SUMMARY:Reach out to Greater Iowa City, Inc. about Board Leadership Program (BLP)
DESCRIPTION:Reach out to them for information about their program.\n\nDescription: Leadership training program helping professionals in Greater Iowa City develop board governance skills and prepare for nonprofit and civic board service.\n\n- Source: https://founder-nav.com/programs/reca9MjhomDlxPR7o\n\n---\nBrought to you by Founder Nav, helping entrepreneurs navigate the entrepreneurial ecosystem.
DTSTART:20260425T100052Z
DTEND:20260425T103052Z
END:VEVENT
END:VCALENDAR