BEGIN:VCALENDAR
VERSION:2.0
BEGIN:VEVENT
SUMMARY:Reach out to Unknown Hub about Lavin Entrepreneurship Program
DESCRIPTION:Reach out to them for information about their program.\n\nDescription: Offers a two-year undergraduate experience focused on building entrepreneurial skills, fostering interdisciplinary collaboration, and providing mentorship to prepare students for launching ventures and professional success.\n\n- Phone: (619) 594-2781\n- Email: lavincenter@sdsu.edu\n- Source: https://founder-nav.com/programs/reca3PZ9QFpGuqnVL\n\n---\nBrought to you by Founder Nav, helping entrepreneurs navigate the entrepreneurial ecosystem.
DTSTART:20260425T100023Z
DTEND:20260425T103023Z
END:VEVENT
END:VCALENDAR