BEGIN:VCALENDAR
VERSION:2.0
BEGIN:VEVENT
SUMMARY:Reach out to Entrepreneurs’ Organization (EO) – Iowa Chapter about EO Mentorship Program
DESCRIPTION:Reach out to them for information about their program.\n\nDescription: One-on-one mentoring connecting EO members with experienced entrepreneurs for guidance on business challenges, growth strategy, and leadership development.\n\n- Source: https://founder-nav.com/programs/recZtOYtg29IQcxG7\n\n---\nBrought to you by Founder Nav, helping entrepreneurs navigate the entrepreneurial ecosystem.
DTSTART:20260425T100038Z
DTEND:20260425T103038Z
END:VEVENT
END:VCALENDAR