BEGIN:VCALENDAR
VERSION:2.0
BEGIN:VEVENT
SUMMARY:Reach out to CEI – Portland about CEI Women's Business Center (Courses, Cohorts & Workshops)
DESCRIPTION:Reach out to them for information about their program.\n\nDescription: A statewide resource offering free courses, cohorts, workshops, and 1:1 advising for women entrepreneurs in Maine at any stage of business, from ideation through growth.\n\n- Phone: (207) 504-5899\n- Source: https://founder-nav.com/programs/recZsmLRTYiNbEQl0\n\n---\nBrought to you by Founder Nav, helping entrepreneurs navigate the entrepreneurial ecosystem.
DTSTART:20260425T100008Z
DTEND:20260425T103008Z
END:VEVENT
END:VCALENDAR