BEGIN:VCALENDAR
VERSION:2.0
BEGIN:VEVENT
SUMMARY:Reach out to SCORE – Denver & Colorado about SCORE Denver & WY Mentoring & Workshops
DESCRIPTION:Reach out to them for information about their program.\n\nDescription: Free mentoring and low-cost workshops for entrepreneurs in Denver, Northern Colorado, and Wyoming. One-on-one mentoring from experienced professionals across 62+ industries plus women entrepreneur events.\n\n- Phone: (303) 927-3480\n- Email: score62@scoredenver.org\n- Source: https://founder-nav.com/programs/recZnHnJ8mV1vdikP\n\n---\nBrought to you by Founder Nav, helping entrepreneurs navigate the entrepreneurial ecosystem.
DTSTART:20260425T100020Z
DTEND:20260425T103020Z
END:VEVENT
END:VCALENDAR