BEGIN:VCALENDAR
VERSION:2.0
BEGIN:VEVENT
SUMMARY:Reach out to Moonshot Arizona about Moonshot Arizona Entrepreneurship Programs
DESCRIPTION:Reach out to them for information about their program.\n\nDescription: An entrepreneurship support organization in Arizona helping founders build successful businesses through strategic coaching, business development support, and ecosystem-building initiatives.\n\n- Source: https://founder-nav.com/programs/recZgNMXhYFQgvSVR\n\n---\nBrought to you by Founder Nav, helping entrepreneurs navigate the entrepreneurial ecosystem.
DTSTART:20260425T100032Z
DTEND:20260425T103032Z
END:VEVENT
END:VCALENDAR