BEGIN:VCALENDAR
VERSION:2.0
BEGIN:VEVENT
SUMMARY:Reach out to Montgomery County Business Center about Business Innovation Centers (Incubator Network)
DESCRIPTION:Reach out to them for information about their program.\n\nDescription: Network of four county-managed business incubators in Germantown, Rockville, Silver Spring, and an AI-focused center, offering office space, business consulting, legal/accounting resources, and commercialization support.\n\n- Source: https://founder-nav.com/programs/recZex4RV87TO32Re\n\n---\nBrought to you by Founder Nav, helping entrepreneurs navigate the entrepreneurial ecosystem.
DTSTART:20260425T100021Z
DTEND:20260425T103021Z
END:VEVENT
END:VCALENDAR