BEGIN:VCALENDAR
VERSION:2.0
BEGIN:VEVENT
SUMMARY:Reach out to North Coast SBDC (Humboldt) about SBDC Business Advising & Mentoring
DESCRIPTION:Reach out to them for information about their program.\n\nDescription: Provides free, confidential business advising and practical training to help entrepreneurs and small businesses start, grow, or transition, offering expertise in marketing, finance, compliance, and industry-specific needs in Northern California.\n\n- Phone: (707) 445-9720\n- Email: admin@northcoastsbdc.org\n- Source: https://founder-nav.com/programs/recZeKuk9O00jFYy8\n\n---\nBrought to you by Founder Nav, helping entrepreneurs navigate the entrepreneurial ecosystem.
DTSTART:20260425T100038Z
DTEND:20260425T103038Z
END:VEVENT
END:VCALENDAR