BEGIN:VCALENDAR
VERSION:2.0
BEGIN:VEVENT
SUMMARY:Reach out to Venture Asheville about Venture Asheville Elevate
DESCRIPTION:Reach out to them for information about their program.\n\nDescription: Enables startup entrepreneurs to simultaneously navigate the practical, day-to-day challenges of building great companies and develop their skills as effective managers, leaders and CEOs. Offering mentorship modeled on the MIT Venture Mentoring Service, Elevate is a service provided by Venture Asheville as part of our strategy to systematically strengthen and support high-growth ventures in the Asheville area.\n\n- Email: mgodfrey@ventureasheville.com\n- Source: https://founder-nav.com/programs/recZakvBmsXOA6Wfm\n\n---\nBrought to you by Founder Nav, helping entrepreneurs navigate the entrepreneurial ecosystem.
DTSTART:20260425T100059Z
DTEND:20260425T103059Z
END:VEVENT
END:VCALENDAR