BEGIN:VCALENDAR
VERSION:2.0
BEGIN:VEVENT
SUMMARY:Reach out to Empower North End about Small Business Development Program
DESCRIPTION:Reach out to them for information about their program.\n\nDescription: Business development support for entrepreneurs in Wichita's North End and Latino community, including workshops on licenses and legal requirements, business structure, and overall entrepreneurship education in a bilingual and culturally welcoming environment.\n\n- Phone: (316) 351-8612\n- Source: https://founder-nav.com/programs/recZVlP0s9t9yVYTD\n\n---\nBrought to you by Founder Nav, helping entrepreneurs navigate the entrepreneurial ecosystem.
DTSTART:20260425T100033Z
DTEND:20260425T103033Z
END:VEVENT
END:VCALENDAR