BEGIN:VCALENDAR
VERSION:2.0
BEGIN:VEVENT
SUMMARY:Reach out to Pacific Asian Center for Entrepreneurship (PACE) about UH Ventures Accelerator
DESCRIPTION:Reach out to them for information about their program.\n\nDescription: University of Hawaii's flagship 3-month startup accelerator, operated by PACE at UH Manoa's Shidler College of Business. Open to faculty, staff, students, and alumni across all 10 UH campuses. Runs two cohorts annually (spring and fall), offering mentorship, education, and investor networking. Accepted companies are eligible for equity investment from UH Ventures LLC.\n\n- Phone: (808) 956-5083\n- Email: pace@hawaii.edu\n- Source: https://founder-nav.com/programs/recZV3TdrlP1ZpakM\n\n---\nBrought to you by Founder Nav, helping entrepreneurs navigate the entrepreneurial ecosystem.
DTSTART:20260425T100032Z
DTEND:20260425T103032Z
END:VEVENT
END:VCALENDAR