BEGIN:VCALENDAR
VERSION:2.0
BEGIN:VEVENT
SUMMARY:Reach out to ESO Ventures about ESO Next Business Incubator
DESCRIPTION:Reach out to them for information about their program.\n\nDescription: Provides a 12-month journey offering structure, guidance, and accountability to help entrepreneurs launch, stabilize, and scale their businesses, with access to community, learning, and capital—especially supporting underinvested founders.\n\n- Email: marketing@eso-ventures.com\n- Source: https://founder-nav.com/programs/recZUb5qkEOkWn47j\n\n---\nBrought to you by Founder Nav, helping entrepreneurs navigate the entrepreneurial ecosystem.
DTSTART:20260425T100020Z
DTEND:20260425T103020Z
END:VEVENT
END:VCALENDAR