BEGIN:VCALENDAR
VERSION:2.0
BEGIN:VEVENT
SUMMARY:Reach out to NetWork Kansas about Kansas Economic Gardening Network
DESCRIPTION:Reach out to them for information about their program.\n\nDescription: Program for second-stage companies connecting them with expert national consulting teams providing advanced tools like GIS, market research, competitive intelligence, and SEO strategies.\n\n- Phone: (877) 521-8600\n- Source: https://founder-nav.com/programs/recZIjEgShbjI4mof\n\n---\nBrought to you by Founder Nav, helping entrepreneurs navigate the entrepreneurial ecosystem.
DTSTART:20260425T100040Z
DTEND:20260425T103040Z
END:VEVENT
END:VCALENDAR