BEGIN:VCALENDAR
VERSION:2.0
BEGIN:VEVENT
SUMMARY:Reach out to SCORE Raleigh about SCORE Raleigh Business Mentoring
DESCRIPTION:Reach out to them for information about their program.\n\nDescription: SCORE Raleigh mentors are highly successful and seasoned business professionals and entrepreneurs with the experience and knowledge to help you achieve your small business goals.\n\n- Source: https://founder-nav.com/programs/recZEozyVqILnkc65\n\n---\nBrought to you by Founder Nav, helping entrepreneurs navigate the entrepreneurial ecosystem.
DTSTART:20260425T100052Z
DTEND:20260425T103052Z
END:VEVENT
END:VCALENDAR