BEGIN:VCALENDAR
VERSION:2.0
BEGIN:VEVENT
SUMMARY:Reach out to Boulder SBDC  about Boulder SBDC Advising & Training
DESCRIPTION:Reach out to them for information about their program.\n\nDescription: Free business advising and no/low-cost training workshops for entrepreneurs in Boulder County. National SBA Center of Excellence award winner. Programs include Leading Edge, Exit Planning, and TechSource.\n\n- Phone: (303) 442-1475\n- Email: sarah.wood@bouldersbdc.com\n- Source: https://founder-nav.com/programs/recZ9GknDwuDqpVnL\n\n---\nBrought to you by Founder Nav, helping entrepreneurs navigate the entrepreneurial ecosystem.
DTSTART:20260425T100022Z
DTEND:20260425T103022Z
END:VEVENT
END:VCALENDAR