BEGIN:VCALENDAR
VERSION:2.0
BEGIN:VEVENT
SUMMARY:Reach out to Arizona SBDC about Arizona SBDC One-on-One Business Advising
DESCRIPTION:Reach out to them for information about their program.\n\nDescription: Free, confidential, professional business advising for Arizona entrepreneurs and small business owners at every stage, covering business planning, financing, marketing, operations, and growth.\n\n- Source: https://founder-nav.com/programs/recZ8dB8DD5rqZjSY\n\n---\nBrought to you by Founder Nav, helping entrepreneurs navigate the entrepreneurial ecosystem.
DTSTART:20260425T100000Z
DTEND:20260425T103000Z
END:VEVENT
END:VCALENDAR