BEGIN:VCALENDAR
VERSION:2.0
BEGIN:VEVENT
SUMMARY:Reach out to StarTUp at the Armory about ATHENAPowerLink® Baltimore
DESCRIPTION:Reach out to them for information about their program.\n\nDescription: Connects founders and small business owners with training, mentorship, networking, and pitch events, offering resources like an accelerator, bootcamp, and advisory panels to help accelerate business growth and success.\n\n- Source: https://founder-nav.com/programs/recYyMsh0pAzFz8Jj\n\n---\nBrought to you by Founder Nav, helping entrepreneurs navigate the entrepreneurial ecosystem.
DTSTART:20260426T100015Z
DTEND:20260426T103015Z
END:VEVENT
END:VCALENDAR