BEGIN:VCALENDAR
VERSION:2.0
BEGIN:VEVENT
SUMMARY:Reach out to Maryland Women’s Business Center Montgomery County about Founders Rising Business Accelerator
DESCRIPTION:Reach out to them for information about their program.\n\nDescription: 8-week capacity building accelerator for aspiring and early-stage entrepreneurs, especially those transitioning from federal careers, to develop sustainable business plans and launch their companies.\n\n- Phone: (301) 315-8091\n- Email: info@marylandwbc.org\n- Source: https://founder-nav.com/programs/recYv3WiUxcetQQKX\n\n---\nBrought to you by Founder Nav, helping entrepreneurs navigate the entrepreneurial ecosystem.
DTSTART:20260425T100026Z
DTEND:20260425T103026Z
END:VEVENT
END:VCALENDAR