BEGIN:VCALENDAR
VERSION:2.0
BEGIN:VEVENT
SUMMARY:Reach out to Anne Arundel Economic Development Corporation about Inclusive Ventures Program (IVP)
DESCRIPTION:Reach out to them for information about their program.\n\nDescription: Free 8-week online accelerator for small, minority-, woman-, and veteran-owned businesses in Anne Arundel County. Includes a $10,000 operating grant, mentorship, and access to VOLT loans.\n\n- Phone: (410) 222-7410\n- Email: info@aaedc.org\n- Source: https://founder-nav.com/programs/recYtlKSjGjGfTu87\n\n---\nBrought to you by Founder Nav, helping entrepreneurs navigate the entrepreneurial ecosystem.
DTSTART:20260425T100038Z
DTEND:20260425T103038Z
END:VEVENT
END:VCALENDAR