BEGIN:VCALENDAR
VERSION:2.0
BEGIN:VEVENT
SUMMARY:Reach out to YWCA Oʻahu about WE by Rising Tide
DESCRIPTION:Reach out to them for information about their program.\n\nDescription: Selective 11-session accelerator for established women-owned businesses with $250K–$5M in annual revenue, sponsored by Central Pacific Bank and aio Foundation in partnership with YWCA O'ahu's MCBL. Cohort of 20 women per year focuses on financial management, marketing strategy, and leadership — all at no cost to participants.\n\n- Phone: (808) 695-2633\n- Email: mcbl@ywcaoahu.org\n- Source: https://founder-nav.com/programs/recYo9PJAIDPlLSxv\n\n---\nBrought to you by Founder Nav, helping entrepreneurs navigate the entrepreneurial ecosystem.
DTSTART:20260425T100039Z
DTEND:20260425T103039Z
END:VEVENT
END:VCALENDAR