BEGIN:VCALENDAR
VERSION:2.0
BEGIN:VEVENT
SUMMARY:Reach out to SCORE Southeastern Connecticut – Old Saybrook about Simple Steps for Starting Your Business (5-session series)
DESCRIPTION:Reach out to them for information about their program.\n\nDescription: Free 5-session workshop series covering startup basics, business concept, marketing plan, financial projections, and funding sources for aspiring entrepreneurs.\n\n- Phone: (860) 388-9508\n- Email: scorechapter@gmail.com\n- Source: https://founder-nav.com/programs/recYhK4OuYiQQXw1t\n\n---\nBrought to you by Founder Nav, helping entrepreneurs navigate the entrepreneurial ecosystem.
DTSTART:20260425T100047Z
DTEND:20260425T103047Z
END:VEVENT
END:VCALENDAR