BEGIN:VCALENDAR
VERSION:2.0
BEGIN:VEVENT
SUMMARY:Reach out to Unknown Hub about MedTech Innovator Accelerator
DESCRIPTION:Reach out to them for information about their program.\n\nDescription: Accelerates the growth of medical device, digital health, and diagnostic companies worldwide, aiming to improve patient outcomes by supporting innovators transforming healthcare through mentorship, resources, and industry connections.\n\n- Source: https://founder-nav.com/programs/recYff7anI75pMEBr\n\n---\nBrought to you by Founder Nav, helping entrepreneurs navigate the entrepreneurial ecosystem.
DTSTART:20260425T100045Z
DTEND:20260425T103045Z
END:VEVENT
END:VCALENDAR