BEGIN:VCALENDAR
VERSION:2.0
BEGIN:VEVENT
SUMMARY:Reach out to Startup Tucson about Startup Tucson Food Forward Pre-Accelerator
DESCRIPTION:Reach out to them for information about their program.\n\nDescription: A 10-week cohort-based pre-accelerator for food and beverage entrepreneurs in Southern Arizona, helping participants take a food product or business idea to a sustainable, scalable business.\n\n- Phone: (520) 477-8278\n- Email: info@startuptucson.com\n- Source: https://founder-nav.com/programs/recYf9HwA7qS4lwep\n\n---\nBrought to you by Founder Nav, helping entrepreneurs navigate the entrepreneurial ecosystem.
DTSTART:20260425T100007Z
DTEND:20260425T103007Z
END:VEVENT
END:VCALENDAR