BEGIN:VCALENDAR
VERSION:2.0
BEGIN:VEVENT
SUMMARY:Reach out to Pacific Community Ventures about Business Advising Program (BusinessAdvising.org)
DESCRIPTION:Reach out to them for information about their program.\n\nDescription: Connects small business owners with experienced mentors for free, personalized, virtual guidance in areas like finance, marketing, and operations, helping them overcome challenges, grow revenue, and create jobs through one-on-one support tailored to their goals.\n\n- Phone: (415) 442-4300\n- Source: https://founder-nav.com/programs/recYdScJXteDnb7nL\n\n---\nBrought to you by Founder Nav, helping entrepreneurs navigate the entrepreneurial ecosystem.
DTSTART:20260425T100054Z
DTEND:20260425T103054Z
END:VEVENT
END:VCALENDAR