BEGIN:VCALENDAR
VERSION:2.0
BEGIN:VEVENT
SUMMARY:Reach out to Renaissance Entrepreneurship Center – SoMa  about Business Training Classes (Start Smart & Business Planning)
DESCRIPTION:Reach out to them for information about their program.\n\nDescription: Practical, hands-on training courses supporting entrepreneurs at every stage, from idea development to business launch. Start Smart introduces business fundamentals and the Business Model Canvas for feasibility assessment. The Business Planning Class covers marketing, operations, financial projections, and networking while constructing a complete business plan. Offered in English and Spanish across all Bay Area locations.\n\n- Phone: (415) 541-8580\n- Source: https://founder-nav.com/programs/recYcB6rPzKE3gBD7\n\n---\nBrought to you by Founder Nav, helping entrepreneurs navigate the entrepreneurial ecosystem.
DTSTART:20260425T100001Z
DTEND:20260425T103001Z
END:VEVENT
END:VCALENDAR